BEGIN:VCALENDAR
VERSION:2.0
PRODID:-// - ECPv6.15.9//NONSGML v1.0//EN
CALSCALE:GREGORIAN
METHOD:PUBLISH
X-ORIGINAL-URL:https://www.imkersvereniginggroenehart.nl
X-WR-CALDESC:Evenementen voor 
REFRESH-INTERVAL;VALUE=DURATION:PT1H
X-Robots-Tag:noindex
X-PUBLISHED-TTL:PT1H
BEGIN:VTIMEZONE
TZID:Europe/Helsinki
BEGIN:DAYLIGHT
TZOFFSETFROM:+0200
TZOFFSETTO:+0300
TZNAME:EEST
DTSTART:20200329T010000
END:DAYLIGHT
BEGIN:STANDARD
TZOFFSETFROM:+0300
TZOFFSETTO:+0200
TZNAME:EET
DTSTART:20201025T010000
END:STANDARD
BEGIN:DAYLIGHT
TZOFFSETFROM:+0200
TZOFFSETTO:+0300
TZNAME:EEST
DTSTART:20210328T010000
END:DAYLIGHT
BEGIN:STANDARD
TZOFFSETFROM:+0300
TZOFFSETTO:+0200
TZNAME:EET
DTSTART:20211031T010000
END:STANDARD
BEGIN:DAYLIGHT
TZOFFSETFROM:+0200
TZOFFSETTO:+0300
TZNAME:EEST
DTSTART:20220327T010000
END:DAYLIGHT
BEGIN:STANDARD
TZOFFSETFROM:+0300
TZOFFSETTO:+0200
TZNAME:EET
DTSTART:20221030T010000
END:STANDARD
BEGIN:DAYLIGHT
TZOFFSETFROM:+0200
TZOFFSETTO:+0300
TZNAME:EEST
DTSTART:20230326T010000
END:DAYLIGHT
BEGIN:STANDARD
TZOFFSETFROM:+0300
TZOFFSETTO:+0200
TZNAME:EET
DTSTART:20231029T010000
END:STANDARD
BEGIN:DAYLIGHT
TZOFFSETFROM:+0200
TZOFFSETTO:+0300
TZNAME:EEST
DTSTART:20240331T010000
END:DAYLIGHT
BEGIN:STANDARD
TZOFFSETFROM:+0300
TZOFFSETTO:+0200
TZNAME:EET
DTSTART:20241027T010000
END:STANDARD
BEGIN:DAYLIGHT
TZOFFSETFROM:+0200
TZOFFSETTO:+0300
TZNAME:EEST
DTSTART:20250330T010000
END:DAYLIGHT
BEGIN:STANDARD
TZOFFSETFROM:+0300
TZOFFSETTO:+0200
TZNAME:EET
DTSTART:20251026T010000
END:STANDARD
BEGIN:DAYLIGHT
TZOFFSETFROM:+0200
TZOFFSETTO:+0300
TZNAME:EEST
DTSTART:20260329T010000
END:DAYLIGHT
BEGIN:STANDARD
TZOFFSETFROM:+0300
TZOFFSETTO:+0200
TZNAME:EET
DTSTART:20261025T010000
END:STANDARD
BEGIN:DAYLIGHT
TZOFFSETFROM:+0200
TZOFFSETTO:+0300
TZNAME:EEST
DTSTART:20270328T010000
END:DAYLIGHT
BEGIN:STANDARD
TZOFFSETFROM:+0300
TZOFFSETTO:+0200
TZNAME:EET
DTSTART:20271031T010000
END:STANDARD
END:VTIMEZONE
BEGIN:VTIMEZONE
TZID:UTC
BEGIN:STANDARD
TZOFFSETFROM:+0000
TZOFFSETTO:+0000
TZNAME:UTC
DTSTART:20170101T000000
END:STANDARD
END:VTIMEZONE
BEGIN:VEVENT
DTSTART;TZID=Europe/Helsinki:20260306T191500
DTEND;TZID=Europe/Helsinki:20260306T220000
DTSTAMP:20260423T075528
CREATED:20260223T201059Z
LAST-MODIFIED:20260223T201059Z
UID:8658-1772824500-1772834400@www.imkersvereniginggroenehart.nl
SUMMARY:Imkercafé
DESCRIPTION:Klik om toegang te krijgen tot imkercafe-verkoop-6-3-2026.pdf \nGerelateerde Afbeeldingen:
URL:https://www.imkersvereniginggroenehart.nl/event/imkercafe-5/
LOCATION:Tuinen van Boskoop\, Reijerskoop 68\, Boskoop\, Zuid-Holland\, 2771 BS\, Nederland
CATEGORIES:Imkercafé
END:VEVENT
BEGIN:VEVENT
DTSTART;TZID=Europe/Helsinki:20260206T200000
DTEND;TZID=Europe/Helsinki:20260206T220000
DTSTAMP:20260423T075528
CREATED:20260130T204334Z
LAST-MODIFIED:20260130T204506Z
UID:8653-1770408000-1770415200@www.imkersvereniginggroenehart.nl
SUMMARY:Imkercafé
DESCRIPTION:Imkercafé op 6 februari \nGerelateerde Afbeeldingen:
URL:https://www.imkersvereniginggroenehart.nl/event/imkercafe-4/
LOCATION:Zuid-Holland
CATEGORIES:Imkercafé
END:VEVENT
BEGIN:VEVENT
DTSTART;TZID=Europe/Helsinki:20251002T080000
DTEND;TZID=Europe/Helsinki:20251002T170000
DTSTAMP:20260423T075528
CREATED:20250921T193640Z
LAST-MODIFIED:20250921T193640Z
UID:8595-1759392000-1759424400@www.imkersvereniginggroenehart.nl
SUMMARY:Imkercafé
DESCRIPTION:Gerelateerde Afbeeldingen:
URL:https://www.imkersvereniginggroenehart.nl/event/imkercafe-3/
LOCATION:Zuid-Holland
CATEGORIES:Imkercafé
END:VEVENT
BEGIN:VEVENT
DTSTART;TZID=Europe/Helsinki:20221112T130000
DTEND;TZID=Europe/Helsinki:20221112T170000
DTSTAMP:20260423T075528
CREATED:20220929T081619Z
LAST-MODIFIED:20220929T081619Z
UID:8243-1668258000-1668272400@www.imkersvereniginggroenehart.nl
SUMMARY:12 november 2022 keuring Bijenproducten Imkersvereniging Groene Hart
DESCRIPTION:Beste leden\, \nVia deze mail wil ik jullie allen alvast informeren dat er op zaterdagmiddag 12 november een keuring van bijenproducten gepland staat. Op die dag kunnen jullie je producten weer inleveren. Willen jullie de datum in jullie agenda reserveren en een aantal bijenproducten ter keuring bewaren? \n  \nTijdens de keuring geef ik een presentatie en workshop over: honing\, pollen en meer……  \nHet gaat weer een leuke middag worden\, maar zonder jullie producten is het niet zo leuk natuurlijk:). Dat kan zijn: honing\, was\, propolis\, kaarsen\, mede\, gebak met honing bereid\, kunstraat\, etc. etc.  \n  \nHet handboek: “Keuring Bijenproducten en Etiketvoorschriften” kan jullie tips geven over wat een keurmeester allemaal beoordeeld tijdens een keuring. Hier een link: https://www.bijkersgilde.nl/files/handboek-keuring-bijenproducten-en-etiketvoorschriften-versie-5-2021.pdf \n  \nMeer informatie stuur ik in een later stadium! \n  \nGroeten Annet Künneke \nGerelateerde Afbeeldingen:
URL:https://www.imkersvereniginggroenehart.nl/event/12-november-2022-keuring-bijenproducten-imkersvereniging-groene-hart/
LOCATION:Zuid-Holland
CATEGORIES:Imkercafé
END:VEVENT
BEGIN:VEVENT
DTSTART;TZID=Europe/Helsinki:20220301T080000
DTEND;TZID=Europe/Helsinki:20220301T170000
DTSTAMP:20260423T075528
CREATED:20220111T165802Z
LAST-MODIFIED:20220111T172654Z
UID:8049-1646121600-1646154000@www.imkersvereniginggroenehart.nl
SUMMARY:imkercafé
DESCRIPTION:Ergens in maart \nGerelateerde Afbeeldingen:
URL:https://www.imkersvereniginggroenehart.nl/event/imkercafe/
LOCATION:Zuid-Holland
CATEGORIES:Imkercafé
END:VEVENT
BEGIN:VEVENT
DTSTART;TZID=Europe/Helsinki:20211030T140000
DTEND;TZID=Europe/Helsinki:20211030T170000
DTSTAMP:20260423T075528
CREATED:20211012T194418Z
LAST-MODIFIED:20220111T164422Z
UID:7993-1635602400-1635613200@www.imkersvereniginggroenehart.nl
SUMMARY:Imkercafe: Gezellige bijeenkomst en Honing keuring
DESCRIPTION:Wij willen er met elkaar een gezellige middag van maken\, met een hapje en een drankje\, waar jullie ideeën kunnen uitwisselen en met elkaar kunnen praten over de afgelopen twee jaar. Het bestuur heeft zeker ook nog enkele mededelingen voor jullie. \nWij willen ervoor zorgen dat jullie je allemaal veilig kunnen voelen\, daarom hebben voor de coronamaatregels gekozen die de NBV ook hanteert bij bijeenkomsten met leden. We hopen op veel deelname. Het is niet verplicht om bijenproducten ter keuring aan te bieden\, maar het is wel leuk! \nGerelateerde Afbeeldingen:
URL:https://www.imkersvereniginggroenehart.nl/event/imkercafe-gezellige-bijeenkomt-en-honing-keuring/
LOCATION:Futura College\, Abeellaan 2\, Woerden\, Nederland
CATEGORIES:Imkercafé
END:VEVENT
BEGIN:VEVENT
DTSTART;TZID=UTC:20191106T200000
DTEND;TZID=UTC:20191106T220000
DTSTAMP:20260423T075528
CREATED:20190721T072103Z
LAST-MODIFIED:20190721T072103Z
UID:6949-1573070400-1573077600@www.imkersvereniginggroenehart.nl
SUMMARY:Imkercafé (5) honingkeuring IGH Boskoop (Veenmoltuin / ?)
DESCRIPTION:Gerelateerde Afbeeldingen:
URL:https://www.imkersvereniginggroenehart.nl/event/imkercafe-5-honingkeuring-igh-boskoop-veenmoltuin/
LOCATION:Zuid-Holland
CATEGORIES:Imkercafé
END:VEVENT
BEGIN:VEVENT
DTSTART;TZID=UTC:20190911T200000
DTEND;TZID=UTC:20190911T220000
DTSTAMP:20260423T075528
CREATED:20190721T071334Z
LAST-MODIFIED:20190910T125300Z
UID:6941-1568232000-1568239200@www.imkersvereniginggroenehart.nl
SUMMARY:Imkercafé(4)\, concurrentie wilde bij v.s. honingbij
DESCRIPTION:Gerelateerde Afbeeldingen:
URL:https://www.imkersvereniginggroenehart.nl/event/imkercafe-imkercafe-4-concurrentie-wilde-bij-vs-honingbij-op-veenmoltuin/
LOCATION:De Loods\, Zijde 11\, Boskoop\, Zuid-Holland\, 2771 EJ\, Nederland
CATEGORIES:Imkercafé
END:VEVENT
BEGIN:VEVENT
DTSTART;TZID=UTC:20180919T200000
DTEND;TZID=UTC:20180919T220000
DTSTAMP:20260423T075528
CREATED:20180117T182048Z
LAST-MODIFIED:20180301T113831Z
UID:5671-1537387200-1537394400@www.imkersvereniginggroenehart.nl
SUMMARY:Vierde imkercafé\,  Honingkeuring
DESCRIPTION:Als lid kun je deze avond een standaard potje honing inleveren zonder etiket uiteraard. Alle bezoekers gaan de honing proeven en beoordelen\, op smaak en geur. De best beoordeelden zullen beloond worden met een toepasselijke prijs. \nGerelateerde Afbeeldingen:
URL:https://www.imkersvereniginggroenehart.nl/event/4-de-imkercafe/
LOCATION:Maap Groenendijk\, Zuidkade 93\, Boskoop\, Nederland
CATEGORIES:Imkercafé
END:VEVENT
BEGIN:VEVENT
DTSTART;TZID=UTC:20180606T200000
DTEND;TZID=UTC:20180606T220000
DTSTAMP:20260423T075528
CREATED:20180117T181913Z
LAST-MODIFIED:20180301T114107Z
UID:5667-1528315200-1528322400@www.imkersvereniginggroenehart.nl
SUMMARY:Derde imkercafé
DESCRIPTION:Onderwerp: Propolis door Wim van den Oord \nGerelateerde Afbeeldingen:
URL:https://www.imkersvereniginggroenehart.nl/event/3-de-imkercafe/
LOCATION:Maap Groenendijk\, Zuidkade 93\, Boskoop\, Nederland
CATEGORIES:Imkercafé
END:VEVENT
BEGIN:VEVENT
DTSTART;TZID=UTC:20180425T200000
DTEND;TZID=UTC:20180425T220000
DTSTAMP:20260423T075528
CREATED:20180117T181639Z
LAST-MODIFIED:20180403T155912Z
UID:5663-1524686400-1524693600@www.imkersvereniginggroenehart.nl
SUMMARY:Tweede imkercafé Bijengezondheid en diagnoseteam Henk Mezger/Annet Kunneke/Teus Redelijkheid
DESCRIPTION:Onderwerp: Bijengezondheid door Henk Mezger \n  \nGerelateerde Afbeeldingen:
URL:https://www.imkersvereniginggroenehart.nl/event/2-de-imker-cafe/
LOCATION:Maap Groenendijk\, Zuidkade 93\, Boskoop\, Nederland
CATEGORIES:Imkercafé
END:VEVENT
END:VCALENDAR