BEGIN:VCALENDAR
VERSION:2.0
PRODID:-// - ECPv6.15.9//NONSGML v1.0//EN
CALSCALE:GREGORIAN
METHOD:PUBLISH
X-ORIGINAL-URL:https://www.imkersvereniginggroenehart.nl
X-WR-CALDESC:Evenementen voor 
REFRESH-INTERVAL;VALUE=DURATION:PT1H
X-Robots-Tag:noindex
X-PUBLISHED-TTL:PT1H
BEGIN:VTIMEZONE
TZID:Europe/Helsinki
BEGIN:DAYLIGHT
TZOFFSETFROM:+0200
TZOFFSETTO:+0300
TZNAME:EEST
DTSTART:20240331T010000
END:DAYLIGHT
BEGIN:STANDARD
TZOFFSETFROM:+0300
TZOFFSETTO:+0200
TZNAME:EET
DTSTART:20241027T010000
END:STANDARD
BEGIN:DAYLIGHT
TZOFFSETFROM:+0200
TZOFFSETTO:+0300
TZNAME:EEST
DTSTART:20250330T010000
END:DAYLIGHT
BEGIN:STANDARD
TZOFFSETFROM:+0300
TZOFFSETTO:+0200
TZNAME:EET
DTSTART:20251026T010000
END:STANDARD
BEGIN:DAYLIGHT
TZOFFSETFROM:+0200
TZOFFSETTO:+0300
TZNAME:EEST
DTSTART:20260329T010000
END:DAYLIGHT
BEGIN:STANDARD
TZOFFSETFROM:+0300
TZOFFSETTO:+0200
TZNAME:EET
DTSTART:20261025T010000
END:STANDARD
END:VTIMEZONE
BEGIN:VTIMEZONE
TZID:UTC
BEGIN:STANDARD
TZOFFSETFROM:+0000
TZOFFSETTO:+0000
TZNAME:UTC
DTSTART:20170101T000000
END:STANDARD
END:VTIMEZONE
BEGIN:VEVENT
DTSTART;TZID=Europe/Helsinki:20250621T090000
DTEND;TZID=Europe/Helsinki:20250621T170000
DTSTAMP:20260423T100221
CREATED:20250607T183845Z
LAST-MODIFIED:20250607T183845Z
UID:8565-1750496400-1750525200@www.imkersvereniginggroenehart.nl
SUMMARY:Officiële opening van de Tuinen van Boskoop
DESCRIPTION:Op de langste dag van dit jaar wordt officieel de Tuinen van Boskoop geopend. Onze vereniging is ook paraat en aanwezig met een aantal kramen en verwelkomt iedereen in ons nieuwe onderkomen. Alle partners van de Tuinen houden open huis en ook is er een grote kunstmarkt met 40 kramen. Via de Tuinen kan ook de Opendag van kwekers  aan De Biezen bezocht worden. \nGerelateerde Afbeeldingen:
URL:https://www.imkersvereniginggroenehart.nl/event/officiele-opening-van-de-tuinen-van-boskoop/
LOCATION:Tuinen van Boskoop\, Reijerskoop 68\, Boskoop\, Zuid-Holland\, 2771 BS\, Nederland
CATEGORIES:Open dagen
END:VEVENT
BEGIN:VEVENT
DTSTART;VALUE=DATE:20190713
DTEND;VALUE=DATE:20190714
DTSTAMP:20260423T100221
CREATED:20190604T181659Z
LAST-MODIFIED:20190712T131356Z
UID:6879-1562976000-1563062399@www.imkersvereniginggroenehart.nl
SUMMARY:Open Imkerijdagen
DESCRIPTION:Op zaterdag 13 juli kunt u de bijenstal op de heemtuin de Veenmol\, aan het zwarte Pad in Boskoop bezoeken. Hier vertellen leden van Imkervereniging het Groenehart u van alles over honingbijen. U kunt ook de Heemtuinen bezichtigen en een rondleiding krijgen van IVM vrijwilligers. \nParkeren kunt u bij het Wellant college. \nGerelateerde Afbeeldingen:
URL:https://www.imkersvereniginggroenehart.nl/event/open-imkerij-dagen/
LOCATION:Zuid-Holland
CATEGORIES:Open dagen
END:VEVENT
BEGIN:VEVENT
DTSTART;VALUE=DATE:20190615
DTEND;VALUE=DATE:20190616
DTSTAMP:20260423T100221
CREATED:20190604T180734Z
LAST-MODIFIED:20190604T180839Z
UID:6873-1560556800-1560643199@www.imkersvereniginggroenehart.nl
SUMMARY:Open Kwekerijdag
DESCRIPTION:Gerelateerde Afbeeldingen:
URL:https://www.imkersvereniginggroenehart.nl/event/open-kwekerijdag/
LOCATION:Zuid-Holland
CATEGORIES:Open dagen
END:VEVENT
BEGIN:VEVENT
DTSTART;TZID=UTC:20180714T100000
DTEND;TZID=UTC:20180714T160000
DTSTAMP:20260423T100221
CREATED:20180514T080025Z
LAST-MODIFIED:20180625T182726Z
UID:6311-1531562400-1531584000@www.imkersvereniginggroenehart.nl
SUMMARY:Open imkerijdagen 2018
DESCRIPTION:In heel Nederland houden imkers op zaterdag 14 juli en/of zondag 15 juli 2018 open huis. Ook in uw regio doen diverse imkers mee. Maap Groenendijk houdt open imkerijdag op zaterdag 14 juli van 10.00  – 16.00 uur. Er zijn dan ook rondleidingen van IVN.  \nGerelateerde Afbeeldingen:
URL:https://www.imkersvereniginggroenehart.nl/event/open-imkerdagen-2018/
LOCATION:Maap Groenendijk\, Zuidkade 93\, Boskoop\, Nederland
CATEGORIES:Open dagen
END:VEVENT
END:VCALENDAR