BEGIN:VCALENDAR
VERSION:2.0
PRODID:-// - ECPv6.15.9//NONSGML v1.0//EN
CALSCALE:GREGORIAN
METHOD:PUBLISH
X-ORIGINAL-URL:https://www.imkersvereniginggroenehart.nl
X-WR-CALDESC:Evenementen voor 
REFRESH-INTERVAL;VALUE=DURATION:PT1H
X-Robots-Tag:noindex
X-PUBLISHED-TTL:PT1H
BEGIN:VTIMEZONE
TZID:Europe/Helsinki
BEGIN:DAYLIGHT
TZOFFSETFROM:+0200
TZOFFSETTO:+0300
TZNAME:EEST
DTSTART:20250330T010000
END:DAYLIGHT
BEGIN:STANDARD
TZOFFSETFROM:+0300
TZOFFSETTO:+0200
TZNAME:EET
DTSTART:20251026T010000
END:STANDARD
BEGIN:DAYLIGHT
TZOFFSETFROM:+0200
TZOFFSETTO:+0300
TZNAME:EEST
DTSTART:20260329T010000
END:DAYLIGHT
BEGIN:STANDARD
TZOFFSETFROM:+0300
TZOFFSETTO:+0200
TZNAME:EET
DTSTART:20261025T010000
END:STANDARD
BEGIN:DAYLIGHT
TZOFFSETFROM:+0200
TZOFFSETTO:+0300
TZNAME:EEST
DTSTART:20270328T010000
END:DAYLIGHT
BEGIN:STANDARD
TZOFFSETFROM:+0300
TZOFFSETTO:+0200
TZNAME:EET
DTSTART:20271031T010000
END:STANDARD
END:VTIMEZONE
BEGIN:VEVENT
DTSTART;TZID=Europe/Helsinki:20260311T193000
DTEND;TZID=Europe/Helsinki:20260311T220000
DTSTAMP:20260423T062755
CREATED:20260223T201746Z
LAST-MODIFIED:20260223T201746Z
UID:8661-1773257400-1773266400@www.imkersvereniginggroenehart.nl
SUMMARY:Algemene Ledenvergadering
DESCRIPTION:Waddinxveen 11 februari 2026\nBeste leden\,\nOp woensdag 11 maart aanstaande organiseren wij onze jaarlijkse algemene\nledenvergadering (ALV) om 20.00 uur (inloop vanaf 19.30 uur) in de Plataan te\nBoskoop. Zoals gebruikelijk moeten wij enkele formele besluiten nemen\, zoals\nhet goedkeuren van de financiën en het jaarverslag van het bestuur. Dit jaar\nvragen we jullie om nieuwe statuten voor onze vereniging goed te keuren.\nAanpassing van onze statuten was noodzakelijk om te voldoen aan\nveranderende wettelijke eisen\, waaronder de WBTR (Wet Bestuur en Toezicht\nRechtspersonen). We hebben gebruik gemaakt van de modelstatuten van de\nNBV. Jullie ontvangen bijgaand de voorgestelde statuten. Deze zijn al getoetst\nen goedgekeurd door het bestuur van de NBV.\nTwee bestuursleden moeten opnieuw gekozen worden. Beiden stellen zich\nbeschikbaar voor herverkiezing. Mochten jullie je verkiesbaar willen stellen\, laat\nhet per mail aan de secretaris weten tot uiterlijk 1 maart aanstaande.\nUiteraard worden jullie ook bijgepraat over lopende activiteiten\, zoals de\nontwikkelingen omtrent ons nieuwe onderkomen in de Tuinen van Boskoop en\nde komst van de Aziatische hoornaar. Ter voorbereiding ontvangen jullie hierbij\nde agenda\, het jaarverslag en de notulen van de afgelopen ALV in 2025\, het\nrooster van aftreden van het bestuur en de concept-statuten.\nHet gaat een informatieve\, maar ook een gezellige avond worden. Wij stellen\njullie aanwezigheid op deze avond zeer op prijs.\nGraag tot 11 maart!\nNamens het bestuur van IGH\, Annet Kunneke\nAdres:\nMultifunctioneel Centrum de Plataan\nSnijdelwijklaan 2\n2771 SX Boskoop\nEr is voldoende parkeerruimte aanwezig. De Plataan is zeer goed bereikbaar\nmet het openbaar vervoer. Het ligt naast het treinstation Boskoop Snijdelwijk. \nGerelateerde Afbeeldingen:
URL:https://www.imkersvereniginggroenehart.nl/event/algemene-ledenvergadering-2/
CATEGORIES:ALV Algemene leden vergadering
END:VEVENT
END:VCALENDAR