BEGIN:VCALENDAR
VERSION:2.0
PRODID:-// - ECPv6.15.9//NONSGML v1.0//EN
CALSCALE:GREGORIAN
METHOD:PUBLISH
X-ORIGINAL-URL:https://www.imkersvereniginggroenehart.nl
X-WR-CALDESC:Evenementen voor 
REFRESH-INTERVAL;VALUE=DURATION:PT1H
X-Robots-Tag:noindex
X-PUBLISHED-TTL:PT1H
BEGIN:VTIMEZONE
TZID:Europe/Helsinki
BEGIN:DAYLIGHT
TZOFFSETFROM:+0200
TZOFFSETTO:+0300
TZNAME:EEST
DTSTART:20200329T010000
END:DAYLIGHT
BEGIN:STANDARD
TZOFFSETFROM:+0300
TZOFFSETTO:+0200
TZNAME:EET
DTSTART:20201025T010000
END:STANDARD
BEGIN:DAYLIGHT
TZOFFSETFROM:+0200
TZOFFSETTO:+0300
TZNAME:EEST
DTSTART:20210328T010000
END:DAYLIGHT
BEGIN:STANDARD
TZOFFSETFROM:+0300
TZOFFSETTO:+0200
TZNAME:EET
DTSTART:20211031T010000
END:STANDARD
BEGIN:DAYLIGHT
TZOFFSETFROM:+0200
TZOFFSETTO:+0300
TZNAME:EEST
DTSTART:20220327T010000
END:DAYLIGHT
BEGIN:STANDARD
TZOFFSETFROM:+0300
TZOFFSETTO:+0200
TZNAME:EET
DTSTART:20221030T010000
END:STANDARD
END:VTIMEZONE
BEGIN:VEVENT
DTSTART;TZID=Europe/Helsinki:20210511T200000
DTEND;TZID=Europe/Helsinki:20210511T220000
DTSTAMP:20260423T081048
CREATED:20210518T201839Z
LAST-MODIFIED:20210518T201839Z
UID:7899-1620763200-1620770400@www.imkersvereniginggroenehart.nl
SUMMARY:Theorieles 6:  Honing oogsten en verwerken
DESCRIPTION:Gerelateerde Afbeeldingen:
URL:https://www.imkersvereniginggroenehart.nl/event/theorieles-6-honing-oogsten-en-verwerken/
LOCATION:online
CATEGORIES:Cursussen
END:VEVENT
BEGIN:VEVENT
DTSTART;TZID=Europe/Helsinki:20210406T200000
DTEND;TZID=Europe/Helsinki:20210406T220000
DTSTAMP:20260423T081048
CREATED:20210518T201613Z
LAST-MODIFIED:20210518T201948Z
UID:7895-1617739200-1617746400@www.imkersvereniginggroenehart.nl
SUMMARY:Theorieles 5:  Bijen Gezondheid
DESCRIPTION:Gerelateerde Afbeeldingen:
URL:https://www.imkersvereniginggroenehart.nl/event/theorieles-5-bijen-gezondheid/
LOCATION:online
CATEGORIES:Cursussen
END:VEVENT
BEGIN:VEVENT
DTSTART;TZID=Europe/Helsinki:20210323T200000
DTEND;TZID=Europe/Helsinki:20210323T220000
DTSTAMP:20260423T081048
CREATED:20210518T201254Z
LAST-MODIFIED:20210518T201254Z
UID:7891-1616529600-1616536800@www.imkersvereniginggroenehart.nl
SUMMARY:Theorieles 4:  Jaarcyclus honing bijenvolk
DESCRIPTION:Gerelateerde Afbeeldingen:
URL:https://www.imkersvereniginggroenehart.nl/event/theorieles-4-jaarcyclus-honing-bijenvolk/
LOCATION:online
CATEGORIES:Cursussen
END:VEVENT
BEGIN:VEVENT
DTSTART;TZID=Europe/Helsinki:20210316T200000
DTEND;TZID=Europe/Helsinki:20210316T220000
DTSTAMP:20260423T081048
CREATED:20210518T201117Z
LAST-MODIFIED:20210518T201408Z
UID:7887-1615924800-1615932000@www.imkersvereniginggroenehart.nl
SUMMARY:Theorieles 3:  De Bijenwoning
DESCRIPTION:Gerelateerde Afbeeldingen:
URL:https://www.imkersvereniginggroenehart.nl/event/theorieles-3-de-bijenwoning/
LOCATION:online
CATEGORIES:Cursussen
END:VEVENT
BEGIN:VEVENT
DTSTART;TZID=Europe/Helsinki:20210309T200000
DTEND;TZID=Europe/Helsinki:20210309T220000
DTSTAMP:20260423T081048
CREATED:20210518T200651Z
LAST-MODIFIED:20210518T200651Z
UID:7883-1615320000-1615327200@www.imkersvereniginggroenehart.nl
SUMMARY:Theorieles 2:  Biologie van de Honingbij
DESCRIPTION:Gerelateerde Afbeeldingen:
URL:https://www.imkersvereniginggroenehart.nl/event/theorieles-2-biologie-van-de-honingbij/
LOCATION:online
CATEGORIES:Cursussen
END:VEVENT
BEGIN:VEVENT
DTSTART;TZID=Europe/Helsinki:20210302T200000
DTEND;TZID=Europe/Helsinki:20210302T220000
DTSTAMP:20260423T081048
CREATED:20210518T200423Z
LAST-MODIFIED:20210518T200423Z
UID:7879-1614715200-1614722400@www.imkersvereniginggroenehart.nl
SUMMARY:Theorieles 1:  Theorie algemeen
DESCRIPTION:Gerelateerde Afbeeldingen:
URL:https://www.imkersvereniginggroenehart.nl/event/theorieles-1-theorie-algemeen/
LOCATION:online
CATEGORIES:Cursussen
END:VEVENT
END:VCALENDAR