BEGIN:VCALENDAR
VERSION:2.0
PRODID:-// - ECPv6.15.9//NONSGML v1.0//EN
CALSCALE:GREGORIAN
METHOD:PUBLISH
X-ORIGINAL-URL:https://www.imkersvereniginggroenehart.nl
X-WR-CALDESC:Evenementen voor 
REFRESH-INTERVAL;VALUE=DURATION:PT1H
X-Robots-Tag:noindex
X-PUBLISHED-TTL:PT1H
BEGIN:VTIMEZONE
TZID:UTC
BEGIN:STANDARD
TZOFFSETFROM:+0000
TZOFFSETTO:+0000
TZNAME:UTC
DTSTART:20190101T000000
END:STANDARD
END:VTIMEZONE
BEGIN:VEVENT
DTSTART;TZID=UTC:20201128T080000
DTEND;TZID=UTC:20201128T113000
DTSTAMP:20260423T032948
CREATED:20200305T082415Z
LAST-MODIFIED:20200305T082415Z
UID:7389-1606550400-1606563000@www.imkersvereniginggroenehart.nl
SUMMARY:Bijentuin Reeuwijk: Maandelijkse onderhouds werkzaamheden 11
DESCRIPTION:Gerelateerde Afbeeldingen:
URL:https://www.imkersvereniginggroenehart.nl/event/bijentuin-reeuwijk-maandelijkse-onderhouds-werkzaamheden-11/
LOCATION:Bijentuin Reeuwijk\, van Leeuwenhoekstraat\, Reeuwijk
END:VEVENT
BEGIN:VEVENT
DTSTART;TZID=UTC:20201031T080000
DTEND;TZID=UTC:20201031T233000
DTSTAMP:20260423T032948
CREATED:20200305T082219Z
LAST-MODIFIED:20200305T082219Z
UID:7385-1604131200-1604187000@www.imkersvereniginggroenehart.nl
SUMMARY:Bijentuin Reeuwijk: Maandelijkse onderhouds werkzaamheden 10
DESCRIPTION:Gerelateerde Afbeeldingen:
URL:https://www.imkersvereniginggroenehart.nl/event/bijentuin-reeuwijk-maandelijkse-onderhouds-werkzaamheden-10/
LOCATION:Bijentuin Reeuwijk\, van Leeuwenhoekstraat\, Reeuwijk
END:VEVENT
BEGIN:VEVENT
DTSTART;TZID=UTC:20200926T080000
DTEND;TZID=UTC:20200926T233000
DTSTAMP:20260423T032948
CREATED:20200305T082107Z
LAST-MODIFIED:20200305T082107Z
UID:7381-1601107200-1601163000@www.imkersvereniginggroenehart.nl
SUMMARY:Bijentuin Reeuwijk: Maandelijkse onderhouds werkzaamheden 9
DESCRIPTION:Gerelateerde Afbeeldingen:
URL:https://www.imkersvereniginggroenehart.nl/event/bijentuin-reeuwijk-maandelijkse-onderhouds-werkzaamheden-9/
LOCATION:Bijentuin Reeuwijk\, van Leeuwenhoekstraat\, Reeuwijk
END:VEVENT
BEGIN:VEVENT
DTSTART;TZID=UTC:20200829T080000
DTEND;TZID=UTC:20200829T233000
DTSTAMP:20260423T032948
CREATED:20200305T081833Z
LAST-MODIFIED:20200305T081833Z
UID:7377-1598688000-1598743800@www.imkersvereniginggroenehart.nl
SUMMARY:Bijentuin Reeuwijk: Maandelijkse onderhouds werkzaamheden 8
DESCRIPTION:Gerelateerde Afbeeldingen:
URL:https://www.imkersvereniginggroenehart.nl/event/bijentuin-reeuwijk-maandelijkse-onderhouds-werkzaamheden-8/
LOCATION:Bijentuin Reeuwijk\, van Leeuwenhoekstraat\, Reeuwijk
END:VEVENT
BEGIN:VEVENT
DTSTART;TZID=UTC:20200725T080000
DTEND;TZID=UTC:20200725T113000
DTSTAMP:20260423T032948
CREATED:20200305T081641Z
LAST-MODIFIED:20200305T081641Z
UID:7373-1595664000-1595676600@www.imkersvereniginggroenehart.nl
SUMMARY:Bijentuin Reeuwijk: Maandelijkse onderhouds werkzaamheden 7
DESCRIPTION:Gerelateerde Afbeeldingen:
URL:https://www.imkersvereniginggroenehart.nl/event/bijentuin-reeuwijk-maandelijkse-onderhouds-werkzaamheden-7/
LOCATION:Bijentuin Reeuwijk\, van Leeuwenhoekstraat\, Reeuwijk
END:VEVENT
BEGIN:VEVENT
DTSTART;TZID=UTC:20200627T080000
DTEND;TZID=UTC:20200627T113000
DTSTAMP:20260423T032948
CREATED:20200305T081352Z
LAST-MODIFIED:20200305T081352Z
UID:7369-1593244800-1593257400@www.imkersvereniginggroenehart.nl
SUMMARY:Bijentuin Reeuwijk: Maandelijkse onderhouds werkzaamheden 6
DESCRIPTION:Gerelateerde Afbeeldingen:
URL:https://www.imkersvereniginggroenehart.nl/event/bijentuin-reeuwijk-maandelijkse-onderhouds-werkzaamheden-6/
LOCATION:Bijentuin Reeuwijk\, van Leeuwenhoekstraat\, Reeuwijk
END:VEVENT
BEGIN:VEVENT
DTSTART;TZID=UTC:20200530T080000
DTEND;TZID=UTC:20200530T113000
DTSTAMP:20260423T032948
CREATED:20200305T081231Z
LAST-MODIFIED:20200305T082623Z
UID:7365-1590825600-1590838200@www.imkersvereniginggroenehart.nl
SUMMARY:Bijentuin Reeuwijk: Maandelijkse onderhouds werkzaamheden 5
DESCRIPTION:Gerelateerde Afbeeldingen:
URL:https://www.imkersvereniginggroenehart.nl/event/bijentuin-reeuwijk-maandelijkse-onderhouds-werkzaamheden-5/
LOCATION:Bijentuin Reeuwijk\, van Leeuwenhoekstraat\, Reeuwijk
END:VEVENT
BEGIN:VEVENT
DTSTART;TZID=UTC:20200425T080000
DTEND;TZID=UTC:20200425T113000
DTSTAMP:20260423T032948
CREATED:20200305T070011Z
LAST-MODIFIED:20200305T083208Z
UID:7361-1587801600-1587814200@www.imkersvereniginggroenehart.nl
SUMMARY:Bijentuin Reeuwijk: Maandelijkse onderhouds werkzaamheden 4
DESCRIPTION:Gerelateerde Afbeeldingen:
URL:https://www.imkersvereniginggroenehart.nl/event/bijentuin-reeuwijk-maandelijkse-onderhouds-werkzaamheden-4/
LOCATION:Bijentuin Reeuwijk\, van Leeuwenhoekstraat\, Reeuwijk
END:VEVENT
BEGIN:VEVENT
DTSTART;TZID=UTC:20200328T080000
DTEND;TZID=UTC:20200328T113000
DTSTAMP:20260423T032948
CREATED:20200305T065927Z
LAST-MODIFIED:20200305T083438Z
UID:7357-1585382400-1585395000@www.imkersvereniginggroenehart.nl
SUMMARY:Bijentuin Reeuwijk: Maandelijkse onderhouds werkzaamheden 3
DESCRIPTION:Gerelateerde Afbeeldingen:
URL:https://www.imkersvereniginggroenehart.nl/event/bijentuin-reeuwijk-maandelijkse-onderhouds-werkzaamheden-3/
LOCATION:Bijentuin Reeuwijk\, van Leeuwenhoekstraat\, Reeuwijk
END:VEVENT
BEGIN:VEVENT
DTSTART;TZID=UTC:20200229T080000
DTEND;TZID=UTC:20200229T113000
DTSTAMP:20260423T032948
CREATED:20200305T065348Z
LAST-MODIFIED:20200305T083543Z
UID:7353-1582963200-1582975800@www.imkersvereniginggroenehart.nl
SUMMARY:Bijentuin Reeuwijk: Maandelijkse onderhouds werkzaamheden 2
DESCRIPTION:Gerelateerde Afbeeldingen:
URL:https://www.imkersvereniginggroenehart.nl/event/bijentuin-reeuwijk-maandelijkse-onderhouds-werkzaamheden-2/
LOCATION:Bijentuin Reeuwijk\, van Leeuwenhoekstraat\, Reeuwijk
END:VEVENT
BEGIN:VEVENT
DTSTART;TZID=UTC:20200125T080000
DTEND;TZID=UTC:20200125T113000
DTSTAMP:20260423T032948
CREATED:20200305T062811Z
LAST-MODIFIED:20200305T084115Z
UID:7349-1579939200-1579951800@www.imkersvereniginggroenehart.nl
SUMMARY:Bijentuin Reeuwijk: Maandelijkse onderhouds werkzaamheden 1
DESCRIPTION:Gerelateerde Afbeeldingen:
URL:https://www.imkersvereniginggroenehart.nl/event/bijentuin-reeuwijk-maandelijkse-onderhouds-werkzaamheden-1/
LOCATION:Bijentuin Reeuwijk\, van Leeuwenhoekstraat\, Reeuwijk
END:VEVENT
END:VCALENDAR